BEGIN:VCALENDAR
VERSION:2.0
PRODID:-//wp-events-plugin.com//7.2.3.1//EN
BEGIN:VEVENT
UID:6@oratoria.rollocreativo.com
DTSTART:20250915T140000Z
DTEND:20250915T150000Z
DTSTAMP:20250913T103226Z
URL:https://oratoria.rollocreativo.com/eventos/podcast-avanza-y-comunica-s
 eptiembre/
SUMMARY:Podcast Avanza y Comunica (Septiembre)
DESCRIPTION:🎙 Avanza y Comunica – Episodio de bienvenida\nArrancamos t
 emporada en colaboración con Color Comunitaria 107.3 FM y queremos que fo
 rmes parte del equipo.\n👉 ¿Quieres participar?Elige tu rol y solicita 
 tu asistencia (máximo 5 personas en cabina + 2 en la pecera):\n\n\n 	\nMi
 crófono abierto  (para quienes quieran hablar en algún bloque: storytel
 ling\, píldora\, humor\, entrevista\, etc.)\n\n 	\nMaestro/a de Ceremonia
 s  (conduce y enlaza los bloques del episodio)\n\n 	\nEquipo Técnico (me
 sa de mezclas + ayudante de sonido en la pecera)\n\n\n🔔 Importante: tu 
 inscripción es una solicitud de asistencia. Confirmaremos por WhatsApp qu
 iénes participarán finalmente en este episodio. Según el número de sol
 icitudes organizaremos el programa.No te preocupes: si esta vez no entras\
 , te tendremos en cuenta para la siguiente grabación.\n💚 Ven a la radi
 o\, vive la experiencia y abre la temporada con tu voz.
ATTACH;FMTTYPE=image/jpeg:https://oratoria.rollocreativo.com/wp-content/up
 loads/2025/08/Ramon-y-Montse-scaled.jpg
CATEGORIES:Podcast Avanza y Comunica
LOCATION:Color Comunitaria _ Centro Ciudadano Jorge Macías\, Calle Gálvez
  Moll\, 5\, 3ª planta\, MÁLAGA\, Málaga\, 29011\, España
X-APPLE-STRUCTURED-LOCATION;VALUE=URI;X-ADDRESS=Calle Gálvez Moll\, 5\, 3
 ª planta\, MÁLAGA\, Málaga\, 29011\, España;X-APPLE-RADIUS=100;X-TITLE
 =Color Comunitaria _ Centro Ciudadano Jorge Macías:geo:0,0
END:VEVENT
END:VCALENDAR