BEGIN:VCALENDAR
VERSION:2.0
PRODID:-//wp-events-plugin.com//7.2.3.1//EN
BEGIN:VEVENT
UID:21@oratoria.rollocreativo.com
DTSTART:20251010T161500Z
DTEND:20251010T171500Z
DTSTAMP:20251007T173137Z
URL:https://oratoria.rollocreativo.com/eventos/el-poder-de-captar-la-atenc
 ion-podcast-avanza-y-comunica-octubre/
SUMMARY:El poder de captar la atención – Podcast Avanza y Comunica (octu
 bre)
DESCRIPTION:🎙 Avanza y Comunica \n\nVolvemos a los micrófonos de Color
  Comunitaria 107.3 FM\, y esta vez lo haremos hablando de uno de los super
 poderes más olvidados… la atención.\n\n👉 ¿Cuánto tiempo eres capa
 z de mantener tu foco sin distraerte?\n👉 ¿Qué hace que una persona te
  escuche de verdad cuando hablas?\n👉 ¿Y cómo logra un buen comunicado
 r mantener a su público conectado hasta el final?\n\nEn este nuevo episod
 io exploraremos cómo entrenar la atención para comunicar mejor\, conecta
 r más y dejar huella.\nHabrá historias\, humor\, dinámicas y muchas voc
 es compartiendo el mismo propósito: aprender a escuchar con intención y 
 hablar con presencia.\n\n🟢 ¿Quieres participar?\nElige tu rol y solici
 ta tu asistencia (máximo 5 personas en cabina + 2 en la pecera).\n\n🔔 
 Importante: tu inscripción es una solicitud de asistencia. Confirmaremos 
 por WhatsApp quiénes participarán finalmente en este episodio.\nSi esta 
 vez no entras\, tranquilo/a: te tendremos en cuenta para la siguiente grab
 ación.\n\n💚 Ven a la radio\, vive la experiencia y descubre el poder d
 e la atención desde dentro.\n\n💚 Ven a la radio\, vive la experiencia 
 y abre la temporada con tu voz.
ATTACH;FMTTYPE=image/jpeg:https://oratoria.rollocreativo.com/wp-content/up
 loads/2025/10/El-poder-de-la-atencion-1-1.jpg
CATEGORIES:Podcast Avanza y Comunica
LOCATION:Color Comunitaria _ Centro Ciudadano Jorge Macías\, Calle Gálvez
  Moll\, 5\, 3ª planta\, MÁLAGA\, Málaga\, 29011\, España
X-APPLE-STRUCTURED-LOCATION;VALUE=URI;X-ADDRESS=Calle Gálvez Moll\, 5\, 3
 ª planta\, MÁLAGA\, Málaga\, 29011\, España;X-APPLE-RADIUS=100;X-TITLE
 =Color Comunitaria _ Centro Ciudadano Jorge Macías:geo:0,0
END:VEVENT
END:VCALENDAR