BEGIN:VCALENDAR
VERSION:2.0
PRODID:-//wp-events-plugin.com//7.2.3.1//EN
BEGIN:VEVENT
UID:11@oratoria.rollocreativo.com
DTSTART:20251001T170000Z
DTEND:20251001T183000Z
DTSTAMP:20250929T212807Z
URL:https://oratoria.rollocreativo.com/eventos/avanza-en-comunidad-2/
SUMMARY:5_Feedback que Transforma
DESCRIPTION:Sesión Avanza en Comunidad\nFeedback que transforma: del “me
  gusta/no me gusta” al valor real\n\nTerminas tu presentación.Has habla
 do con ganas\, con nervios\, con ilusión… y al bajar del escenario\, se
  pueden dar dos escenas:\n👉 Se te acerca un amigo y te suelta: “me ha
  gustado mucho”.👉 O se te acerca un “enemigo” y sentencia: “bue
 no\, podría haber estado algo mejor”.\n¿Y ahora qué? ¿Qué haces con
  eso?\nEn esta sesión vamos a romper con los comentarios vacíos. Descubr
 iremos juntos qué significa dar un feedback que de verdad sirve: claro\, 
 específico y con intención de ayudar a crecer.\nNo será solo teoría: h
 abrá ejemplos divertidos\, dinámicas participativas\, algún vídeo insp
 irador y práctica real en directo. Porque el feedback útil no se aprende
  leyendo\, se aprende atreviéndose a darlo y a recibirlo.\n👉 Te llevar
 ás frases concretas\, herramientas simples y un compromiso personal: deja
 r atrás el “me gustó / no me gustó” para pasar a un feedback con va
 lor real.\nEn ambos casos… ¿qué haces con eso? ¿Cómo mejoras tu comu
 nicación con frases tan vacías?\nEn esta sesión vamos a darle la vuelta
  al feedback. Vamos a dejar atrás los comentarios vagos para descubrir c
 ómo aportar valor real: claro\, específico y que ayude a crecer.\nNo esp
 eres teoría eterna. Lo veremos con ejemplos divertidos\, vídeos inspirad
 ores y\, sobre todo\, práctica.\nPorque el feedback no se aprende leyendo
 \, se aprende haciéndolo (y atreviéndose a recibirlo).\n🔹 Socios/as: 
 Roles disponibles 🔹 No socios/as: os tocará improvisar… pero no te 
 preocupes\, aquí la improvisación siempre termina en aplausos 👏.\nUna
  sesión para transformar las opiniones en oportunidades de mejora.\nPD: T
 odos hemos dado feedback flojo alguna vez. La diferencia es que ahora apre
 nderemos a hacerlo útil.\n💚Te esperamos en el edificio Antiguo de Taba
 calera
ATTACH;FMTTYPE=image/jpeg:https://oratoria.rollocreativo.com/wp-content/up
 loads/2025/09/Feedback-que-transforma.jpg
CATEGORIES:Avanza en comunidad
LOCATION:Edificio Antigua Tabacalera\, C/ Concejal Muñoz Cerván\, 3 – M
 ódulo 3 (Salón de Actos\, planta baja)\, MÁLAGA\, 29004\, España
X-APPLE-STRUCTURED-LOCATION;VALUE=URI;X-ADDRESS=C/ Concejal Muñoz Cerván\
 , 3 – Módulo 3 (Salón de Actos\, planta baja)\, MÁLAGA\, 29004\, Espa
 ña;X-APPLE-RADIUS=100;X-TITLE=Edificio Antigua Tabacalera:geo:0,0
END:VEVENT
END:VCALENDAR