BEGIN:VCALENDAR
VERSION:2.0
PRODID:-//wp-events-plugin.com//7.2.3.1//EN
BEGIN:VEVENT
UID:12@oratoria.rollocreativo.com
DTSTART:20251029T170000Z
DTEND:20251029T183000Z
DTSTAMP:20251028T224922Z
URL:https://oratoria.rollocreativo.com/eventos/9_avanza-a-tu-ritmo/
SUMMARY:9_Discursos de Ultratumba
DESCRIPTION:Avanza a tu ritmo\nTítulo: Discursos de ultratumba\n¿Listo pa
 ra una noche de miedo… a hablar en público? 👻\nEn el Club Oratoria M
 álaga no nos asustan los micrófonos\, pero este miércoles 29 de octubre
  convertiremos Tabacalera en un escenario embrujado lleno de discursos pre
 parados\, improvisaciones\, rompehielos y… ¡alguna que otra sorpresa te
 rrorífica!\n👉 Será una sesión Avanza a tu Ritmo con todos los roles\
 , pero ambientada en un clima de humor\, creatividad y disfraces. Una opor
 tunidad para practicar oratoria en un escenario distinto\, divertido y tem
 ático.\n✨ Nuestro maestro de ceremonias\, Ignacio Carmona\, guiará la 
 velada con capa y candil (o eso dicen los fantasmas). Tú solo tienes que 
 traer tu rol\, tu voz y\, si te atreves\, un disfraz que ponga los pelos d
 e punta.\n👉 Si eres socio/a\nNo vengas solo a mirar.\nCoge un rol.\nPer
 o antes… entra en tu cuenta.\nSi no lo haces\, solo verás el ticket de 
 no socio/a.\n¿Se te olvidó la contraseña? Pide otra y listo.\n\n👉 Si
  no eres socio/a\nTambién puedes vivirlo.\nReserva tu entrada de no socio
 /a.\nParticipa en el bloque de improvisados.\nEs la mejor manera de saber 
 qué es el Club.\n\nSerá una sesión donde presentaremos los roles básic
 os\n\nUn encuentro dinámico\, vivo.\nDonde cada voz cuenta.\nIncluida la 
 tuya. 💚\n\n💚Te esperamos en el edificio Antiguo de Tabacalera
ATTACH;FMTTYPE=image/jpeg:https://oratoria.rollocreativo.com/wp-content/up
 loads/2025/09/AVANZA-A-TU-RITMO-1.jpg
CATEGORIES:Avanza a tu ritmo
LOCATION:Edificio Antigua Tabacalera\, C/ Concejal Muñoz Cerván\, 3 – M
 ódulo 3 (Salón de Actos\, planta baja)\, MÁLAGA\, 29004\, España
X-APPLE-STRUCTURED-LOCATION;VALUE=URI;X-ADDRESS=C/ Concejal Muñoz Cerván\
 , 3 – Módulo 3 (Salón de Actos\, planta baja)\, MÁLAGA\, 29004\, Espa
 ña;X-APPLE-RADIUS=100;X-TITLE=Edificio Antigua Tabacalera:geo:0,0
END:VEVENT
END:VCALENDAR