BEGIN:VCALENDAR
VERSION:2.0
PRODID:-//wp-events-plugin.com//7.2.3.1//EN
BEGIN:VEVENT
UID:15@oratoria.rollocreativo.com
DTSTART:20251015T170000Z
DTEND:20251015T183000Z
DTSTAMP:20251015T130951Z
URL:https://oratoria.rollocreativo.com/eventos/7_decalogo-para-la-entrevis
 ta-de-trabajo-existosa_-masterclass/
SUMMARY:7_Decálogo para la Entrevista de Trabajo Existosa_ Masterclass
DESCRIPTION:Masterclass\nDecálogo para la entrevista de trabajo exitosa\n\
 nLa entrevista de trabajo es el puente hacia el empleo de tus sueños.\n\n
 Si ya lograste que tu CV abriera una puerta\, ¡felicidades!\nAhora viene 
 el paso decisivo: prepararte para brillar en tu entrevista.\nEn nuestro ta
 ller “Decálogo para la entrevista de trabajo exitosa” aprenderás:\n\
 n\n 	Cómo presentar un CV impecable y relevante.\n 	La importancia de tu 
 imagen y primera impresión\n 	Estrategias para dominar tu discurso y leng
 uaje corporal.\n\nNo dejes que los nervios decidan por ti. Prepárate para
  destacar.\n👉 Si eres socio/a\nNo vengas solo a mirar.\nEntra en tu cue
 nta y reserva tu entrada.\n👉 Si no eres socio/a\nTambién puedes vivirl
 o.\nReserva tu entrada de no socio/a.\nEs la mejor manera de saber qué es
  el Club.\nUn encuentro dinámico\, vivo.\nDonde cada voz cuenta.\nIncluid
 a la tuya. 💚\nImelda nos cuenta que: Fabrica Soluciones en Proyectos de
  RRHH. Y es especialista en idear soluciones para los problemas complejos 
 de la selección de personas con perfiles profesionales de alta demanda y 
 su continua formación (en Alemania\, América y España).\n💚Te esperam
 os en el edificio Antiguo de Tabacalera
ATTACH;FMTTYPE=image/jpeg:https://oratoria.rollocreativo.com/wp-content/up
 loads/2025/10/WhatsApp-Image-2025-10-02-at-20.23.09.jpeg
CATEGORIES:Masterclass
LOCATION:Edificio Antigua Tabacalera\, C/ Concejal Muñoz Cerván\, 3 – M
 ódulo 3 (Salón de Actos\, planta baja)\, MÁLAGA\, 29004\, España
X-APPLE-STRUCTURED-LOCATION;VALUE=URI;X-ADDRESS=C/ Concejal Muñoz Cerván\
 , 3 – Módulo 3 (Salón de Actos\, planta baja)\, MÁLAGA\, 29004\, Espa
 ña;X-APPLE-RADIUS=100;X-TITLE=Edificio Antigua Tabacalera:geo:0,0
END:VEVENT
END:VCALENDAR