BEGIN:VCALENDAR
VERSION:2.0
PRODID:-//wp-events-plugin.com//7.2.3.1//EN
BEGIN:VEVENT
UID:13@oratoria.rollocreativo.com
DTSTART:20251008T170000Z
DTEND:20251008T183000Z
DTSTAMP:20251005T194735Z
URL:https://oratoria.rollocreativo.com/eventos/6_avanza-a-tu-ritmo/
SUMMARY:6_Hooks que Atrapan...
DESCRIPTION:Avanza a tu ritmo\nHooks que atrapan: la magia de incorporarlos
  en las aperturas\n⏱️ ¿Sabías que los primeros segundos de una prese
 ntación son decisivos?La neurociencia demuestra que ahí es donde tu púb
 lico decide si se queda contigo… o desconecta.\nEn esta sesión vamos a 
 entrenar justo eso: cómo enganchar desde la primera frase (o incluso ante
 s de hablar).\n👉 Cada persona que asuma un rol tendrá un reto añadido
 : abrir su presentación con uno de los 12 hooks del manual (anécdotas\, 
 datos impactantes\, citas\, storytelling\, preguntas provocadoras\, gestos
 \, silencios… y más).\nSerá una sesión completa:\n\n\n 	Roles habitua
 les (cronometrador/a\, muletillas\, escucha activa\, lenguaje no verbal\, 
 frases del día\, evaluadores…).\n 	Rompehielos y discursos improvisados
 \n 	Feedback inmediato y evaluación final.\n\n📌 Recuerda:\n\n\n 	Para 
 preparar tu rol tienes a tu disposición el Manual del Club (web)\, el cha
 tbot Avanzadito y\, por supuesto\, al equipo del club por correo o WhatsAp
 ps\n 	Si tienes dudas\, sugerencias o necesitas apoyo\, estamos aquí para
  ayudarte.\n\n💡 El reto: atrapar al público desde el primer segundo co
 n tu hook\, y después mantener la coherencia de tu rol durante toda la se
 sión.\n👉 Si eres socio/a\nNo vengas solo a mirar.\nCoge un rol.\nPero 
 antes… entra en tu cuenta.\nSi no lo haces\, solo verás el ticket de no
  socio/a.\n¿Se te olvidó la contraseña? Pide otra y listo.\n\n👉 Si n
 o eres socio/a\nTambién puedes vivirlo.\nReserva tu entrada de no socio/a
 .\nParticipa en el bloque de improvisados.\nEs la mejor manera de saber qu
 é es el Club.\n\nUn encuentro dinámico\, vivo.\nDonde cada voz cuenta.\n
 Incluida la tuya. 💚\n\n💚Te esperamos en el edificio Antiguo de Tabac
 alera
ATTACH;FMTTYPE=image/jpeg:https://oratoria.rollocreativo.com/wp-content/up
 loads/2025/09/AVANZA-A-TU-RITMO.jpg
CATEGORIES:Avanza a tu ritmo
LOCATION:Edificio Antigua Tabacalera\, C/ Concejal Muñoz Cerván\, 3 – M
 ódulo 3 (Salón de Actos\, planta baja)\, MÁLAGA\, 29004\, España
X-APPLE-STRUCTURED-LOCATION;VALUE=URI;X-ADDRESS=C/ Concejal Muñoz Cerván\
 , 3 – Módulo 3 (Salón de Actos\, planta baja)\, MÁLAGA\, 29004\, Espa
 ña;X-APPLE-RADIUS=100;X-TITLE=Edificio Antigua Tabacalera:geo:0,0
END:VEVENT
END:VCALENDAR