BEGIN:VCALENDAR
VERSION:2.0
PRODID:-//wp-events-plugin.com//7.2.3.1//EN
BEGIN:VEVENT
UID:9@oratoria.rollocreativo.com
DTSTART:20250924T170000Z
DTEND:20250924T183000Z
DTSTAMP:20250922T103346Z
URL:https://oratoria.rollocreativo.com/eventos/4_equivocarse-para-avanzar/
SUMMARY:4_Equivocarse para Avanzar
DESCRIPTION:Sesión Avanza en Comunidad\nTema: Equivocarse para Avanzar\n
 💡 Equivocarse para avanzar\n¿Y si cada "error" fuera un paso hacia el 
 éxito? En esta sesión del Club Oratoria Málaga aprenderemos que equivoc
 arse al hablar no es caer\, sino aprender y mejorar. 🎯\n\nNo hay error\
 , todo es aprendizaje\nEn esta sesión los participantes descubrirán que 
 subir al escenario no significa cometer fallos\, sino detectar áreas de m
 ejora para seguir creciendo en sus habilidades de comunicación.\n🔹 Las
  píldoras tendrán una duración de 2 minutos. Después\, cada participan
 te recibirá un feedback detallado y constructivo que le ayudará a avanza
 r.\n🔹 En el bloque de improvisados\, el coordinador sorprenderá con la
  temática. Personas del público\, socias y no socias\, podrán improvisa
 r un discurso de 2 minutos. Al finalizar\, el coordinador dará un pequeñ
 o feedback.\n🎭 Roles destacados\n\n 	Maestra/o de Ceremonias 🎤: cond
 uce la sesión\, presenta a los participantes y hace el cierre.\n 	Evaluad
 or/a General 🧐: xplicará cómo dar un feedback 2 min. Al final de la s
 esión comparte su feedback (5–6 min).\n 	Coordinador/a de Improvisados 
 💫: prepara y reparte los temas de los improvisados\, dinamizando ese bl
 oque.\n 	Presentador/a de Píldoras\n\n✨ Una sesión para equivocarse si
 n miedo\, reír\, aprender y crecer como oradores.\n💚Te esperamos en el
  edificio Antiguo de Tabacalera
ATTACH;FMTTYPE=image/jpeg:https://oratoria.rollocreativo.com/wp-content/up
 loads/2025/09/AVANZA-EN-COMUNIDAD.jpg
CATEGORIES:Avanza en comunidad
LOCATION:Edificio Antigua Tabacalera\, C/ Concejal Muñoz Cerván\, 3 – M
 ódulo 3 (Salón de Actos\, planta baja)\, MÁLAGA\, 29004\, España
X-APPLE-STRUCTURED-LOCATION;VALUE=URI;X-ADDRESS=C/ Concejal Muñoz Cerván\
 , 3 – Módulo 3 (Salón de Actos\, planta baja)\, MÁLAGA\, 29004\, Espa
 ña;X-APPLE-RADIUS=100;X-TITLE=Edificio Antigua Tabacalera:geo:0,0
END:VEVENT
END:VCALENDAR