BEGIN:VCALENDAR
VERSION:2.0
PRODID:-//wp-events-plugin.com//7.2.3.1//EN
BEGIN:VEVENT
UID:5@oratoria.rollocreativo.com
DTSTART:20250917T170000Z
DTEND:20250917T183000Z
DTSTAMP:20250919T111203Z
URL:https://oratoria.rollocreativo.com/eventos/3a-sesion-2025-2026/
SUMMARY:3_Tu Minuto de Oro
DESCRIPTION:Sesión Avanza en Comunidad\nTema: Tu Minuto de Oro\n¿Quién e
 res hoy? 🌟En esta sesión especial tendrás entre minuto y medio y dos 
 minutos para subir al escenario y presentarte. No es un discurso ni una ch
 arla\, es tu momento para que socios\, invitados y curiosos descubran un p
 oco más de ti.\nPorque no se trata solo de decir tu nombre: se trata de m
 ostrar tu esencia\, tus pasiones\, tus valores… aquello que quieras que 
 la comunidad recuerde de ti.\nAdemás:✨ La maestra de ceremonias guiará
  la sesión⏱️ El cronometrador controlará los tiempos con las tarjeta
 s.🔄 El contador de muletillas\, cuenta muletillas\, jeje.📝 El evalua
 dor general cerrará con una valoración global.💡 Y el recolector de fr
 ases inspiradoras compartirá las mejores ideas al final (nuevo rol)\n🔹
  Socios/as del Club: prepara tu presentación con las plantillas que hemos
  puesto a tu disposición.🔹 No socios/as: os tocará improvisar… pero
  no te preocupes\, aquí la improvisación siempre termina en aplausos 
 👏.\n👉 Atrévete a vivir Tu Minuto de Oro. Porque no es un simple “
 hola\, me llamo…”\, es tu oportunidad de brillar con autenticidad.\n
 💚Te esperamos en el edificio Antiguo de Tabacalera
ATTACH;FMTTYPE=image/jpeg:https://oratoria.rollocreativo.com/wp-content/up
 loads/2025/09/AVANZA-EN-COMUNIDAD-tu-minuto-1.jpg
CATEGORIES:Avanza en comunidad
LOCATION:Edificio Antigua Tabacalera\, C/ Concejal Muñoz Cerván\, 3 – M
 ódulo 3 (Salón de Actos\, planta baja)\, MÁLAGA\, 29004\, España
X-APPLE-STRUCTURED-LOCATION;VALUE=URI;X-ADDRESS=C/ Concejal Muñoz Cerván\
 , 3 – Módulo 3 (Salón de Actos\, planta baja)\, MÁLAGA\, 29004\, Espa
 ña;X-APPLE-RADIUS=100;X-TITLE=Edificio Antigua Tabacalera:geo:0,0
END:VEVENT
END:VCALENDAR