BEGIN:VCALENDAR
VERSION:2.0
PRODID:-//wp-events-plugin.com//7.2.3.1//EN
BEGIN:VEVENT
UID:4@oratoria.rollocreativo.com
DTSTART:20250910T170000Z
DTEND:20250910T183000Z
DTSTAMP:20250919T122837Z
URL:https://oratoria.rollocreativo.com/eventos/2a-sesion-2025-2026/
SUMMARY:2_El Poder de la Atención
DESCRIPTION:🎤 Avanza a tu ritmo – Club Oratoria Málaga ✨\n👉 Si e
 res socio/aNo vengas solo a mirar.Coge un rol.Pero antes… entra en tu cu
 enta.Si no lo haces\, solo verás el ticket de no socio/a.¿Se te olvidó 
 la contraseña? Pide otra y listo.\nSerá una sesión donde presentaremos 
 los roles básicos:- Cronometrador del tiempo.- Contador de muletillas.- G
 ramática y palabra del día.- Lenguaje no verbal.- Escucha activa.\n¿Ya 
 hiciste alguno? Repite\, la repetición es uno de los mejores aprendizajes
 .Explícaselo a los nuevos socios\, te lo agradecerán...ç\nY deja que te
  digan si lo entendieron. Ese será tu feedback.\n👉 Si no eres socio/aT
 ambién puedes vivirlo.Reserva tu entrada de no socio/a.Participa en el bl
 oque de improvisados.Es la mejor manera de saber qué es el Club.\nUn encu
 entro dinámico\, vivo.Donde cada voz cuenta.Incluida la tuya. 💚\n💚T
 e esperamos en el edificio Antiguo de Tabacalera
ATTACH;FMTTYPE=image/jpeg:https://oratoria.rollocreativo.com/wp-content/up
 loads/2025/09/el-poder-de-1-1.jpg
CATEGORIES:Avanza a tu ritmo
LOCATION:Edificio Antigua Tabacalera\, C/ Concejal Muñoz Cerván\, 3 – M
 ódulo 3 (Salón de Actos\, planta baja)\, MÁLAGA\, 29004\, España
X-APPLE-STRUCTURED-LOCATION;VALUE=URI;X-ADDRESS=C/ Concejal Muñoz Cerván\
 , 3 – Módulo 3 (Salón de Actos\, planta baja)\, MÁLAGA\, 29004\, Espa
 ña;X-APPLE-RADIUS=100;X-TITLE=Edificio Antigua Tabacalera:geo:0,0
END:VEVENT
END:VCALENDAR