BEGIN:VCALENDAR
VERSION:2.0
PRODID:-//wp-events-plugin.com//7.2.3.1//EN
BEGIN:VEVENT
UID:24@oratoria.rollocreativo.com
DTSTART:20251119T170000Z
DTEND:20251119T184500Z
DTSTAMP:20251115T192437Z
URL:https://oratoria.rollocreativo.com/eventos/12_errores-a-evitar-al-habl
 ar-en-publico/
SUMMARY:12_13 Errores a Evitar al Hablar en Publico
DESCRIPTION:Avanza en Comunidad\nTema: Errores más comunes al hablar en p
 úblico\nUna sesión dinámica para aprender de los “errores” (o mejor
  dicho\, de las áreas de mejora).En esta experiencia práctica y particip
 ativa\, las personas asociadas que asuman el rol de dinámica compartirán
  con el grupo uno de los trece errores más comunes al hablar en público\
 , transformándolo en una oportunidad de aprendizaje colectivo.\nCada pres
 entación tendrá una duración máxima de dos minutos y seguirá la estru
 ctura de un discurso completo:\n\n\n 	\nUna apertura que despierte el inte
 rés (hook)\n\n 	\nUn desarrollo claro y coherente.\n\n 	\nUn cierre o lla
 mada a la acción que invite a la reflexión o a la mejora personal.\n\n\n
 No se utilizarán recursos visuales. El protagonismo será de la voz\, la 
 mirada\, la presencia y la autenticidad.Se valorará la creatividad\, la o
 riginalidad y\, cómo no\, el sentido del humor\, si forma parte de tu est
 ilo.\n💚Te esperamos en el edificio Antiguo de Tabacalera
ATTACH;FMTTYPE=image/jpeg:https://oratoria.rollocreativo.com/wp-content/up
 loads/2025/10/Errores-a-evitar-al-hablar-en-publico_Cartel.jpg
CATEGORIES:Avanza en comunidad
LOCATION:Edificio Antigua Tabacalera\, C/ Concejal Muñoz Cerván\, 3 – M
 ódulo 3 (Salón de Actos\, planta baja)\, MÁLAGA\, 29004\, España
X-APPLE-STRUCTURED-LOCATION;VALUE=URI;X-ADDRESS=C/ Concejal Muñoz Cerván\
 , 3 – Módulo 3 (Salón de Actos\, planta baja)\, MÁLAGA\, 29004\, Espa
 ña;X-APPLE-RADIUS=100;X-TITLE=Edificio Antigua Tabacalera:geo:0,0
END:VEVENT
END:VCALENDAR