BEGIN:VCALENDAR
VERSION:2.0
PRODID:-//wp-events-plugin.com//7.2.3.1//EN
BEGIN:VEVENT
UID:23@oratoria.rollocreativo.com
DTSTART:20251112T170000Z
DTEND:20251112T184500Z
DTSTAMP:20251112T114336Z
URL:https://oratoria.rollocreativo.com/eventos/11_comunicacion-asertiva_ma
 sterclass/
SUMMARY:11_Comunicación Asertiva _Masterclass
DESCRIPTION:Masterclass\nDecir lo que piensas sin herir ni callarte lo esen
 cial\n🗓️ Imparte: Leonor García Zato\n\n—“¡Otra vez llegas tard
 e!”\n —“No empieces\, que vengo agotada.”\n —“Pues haber avisa
 do.”\n —“¿Y para qué? Si ibas a enfadarte igual.”\n —“Mira\,
  da igual… no digo nada más.”\n\nSilencio.\n De ese incómodo.\n Del 
 que no resuelve nada.\n\nAsí no se comunica con asertividad.\n Así se ac
 umulan las palabras que duelen y las que no se dicen.\n\nEn esta mastercla
 ss sobre comunicación asertiva\, la periodista y formadora Leonor\, nos a
 yudará a descubrir ese punto de equilibrio entre hablar con firmeza y esc
 uchar con empatía. Aprenderemos a decir lo que sentimos sin herir y sin c
 allarnos lo esencial\, a poner límites sin culpa y a mantener la calma in
 cluso cuando la conversación se complica.\n\nSerá una sesión vivencial\
 , cercana y práctica\, donde exploraremos:\n\n 	Cómo decir “no” sin 
 sentirte mal.\n 	Cómo pedir lo que necesitas sin miedo ni rigidez.\n 	Có
 mo mantener la serenidad ante el conflicto.\n 	Y cómo transformar las con
 versaciones difíciles en oportunidades de entendimiento.\n\nUna experienc
 ia para mejorar tu forma de comunicarte\, contigo y con los demás.\n\n
 📍 Lugar: Be Working Málaga\, Calle Alejnadro Dumas\, 17 \n 🕕 Horar
 io: De 18:00 a 19:30 h\n 📅 Miércoles 12 de noviembre\n\n💚 Hablar co
 n asertividad no es tener razón: es tener paz.\n\nRoles disponibles:\n\n 
 	Entrada de socio/a\n 	Entrada de no socio/a\n\n💚Te esperamos\n\nBe Wor
 king Málaga\, Calle Alejnadro Dumas\, 17 
ATTACH;FMTTYPE=image/jpeg:https://oratoria.rollocreativo.com/wp-content/up
 loads/2025/10/MASTERCLASS-1.jpg
CATEGORIES:Masterclass
END:VEVENT
END:VCALENDAR